BEGIN:VCALENDAR
VERSION:2.0
PRODID:-//Museum of Central American Art - ECPv6.15.20//NONSGML v1.0//EN
CALSCALE:GREGORIAN
METHOD:PUBLISH
X-ORIGINAL-URL:https://mocaart.org
X-WR-CALDESC:Events for Museum of Central American Art
REFRESH-INTERVAL;VALUE=DURATION:PT1H
X-Robots-Tag:noindex
X-PUBLISHED-TTL:PT1H
BEGIN:VTIMEZONE
TZID:America/New_York
BEGIN:DAYLIGHT
TZOFFSETFROM:-0500
TZOFFSETTO:-0400
TZNAME:EDT
DTSTART:20250309T070000
END:DAYLIGHT
BEGIN:STANDARD
TZOFFSETFROM:-0400
TZOFFSETTO:-0500
TZNAME:EST
DTSTART:20251102T060000
END:STANDARD
BEGIN:DAYLIGHT
TZOFFSETFROM:-0500
TZOFFSETTO:-0400
TZNAME:EDT
DTSTART:20260308T070000
END:DAYLIGHT
BEGIN:STANDARD
TZOFFSETFROM:-0400
TZOFFSETTO:-0500
TZNAME:EST
DTSTART:20261101T060000
END:STANDARD
BEGIN:DAYLIGHT
TZOFFSETFROM:-0500
TZOFFSETTO:-0400
TZNAME:EDT
DTSTART:20270314T070000
END:DAYLIGHT
BEGIN:STANDARD
TZOFFSETFROM:-0400
TZOFFSETTO:-0500
TZNAME:EST
DTSTART:20271107T060000
END:STANDARD
END:VTIMEZONE
BEGIN:VEVENT
DTSTART;TZID=America/New_York:20260517T140000
DTEND;TZID=America/New_York:20260517T170000
DTSTAMP:20260425T094232
CREATED:20260422T140218Z
LAST-MODIFIED:20260422T140556Z
UID:47636-1779026400-1779037200@mocaart.org
SUMMARY:When the Body Speaks in Color: Emotion\, Memory & the Creative Brain
DESCRIPTION:May 25\, 2025\n\n	\n\n	 @ \n\n\n2:00 pm\n\n		\n\n\n\n	\n	 - \n\n5:00 pm\n\n\n\n	\n				\n				\n					\n		\n					\n		\n				\n						\n					\n			\n						\n				\n							\n			\n		\n						\n				\n					\n		\n					\n		\n				\n						\n					\n			\n						\n				\n									Dr. Atilio Cañas & Antonia Cañas Cole  tell stories about their father & his surreal art. Pupusas and Punch reception to follow.
URL:https://mocaart.org/event/when-the-body-speaks-in-color-emotion-memory-the-creative-brain/
LOCATION:The ANNEX ArtSpace\, 290 NE 2nd Avenue\, Delray Beach\, IL
CATEGORIES:Event,Rituals in Central American Art
ATTACH;FMTTYPE=image/jpeg:https://mocaart.org/wp-content/uploads/2026/04/unnamed-3.jpg
END:VEVENT
END:VCALENDAR